BEGIN:VCALENDAR
VERSION:2.0
PRODID:-//C2S - ECPv6.15.20//NONSGML v1.0//EN
CALSCALE:GREGORIAN
METHOD:PUBLISH
X-WR-CALNAME:C2S
X-ORIGINAL-URL:https://www.c2sgrowth.com
X-WR-CALDESC:Events for C2S
REFRESH-INTERVAL;VALUE=DURATION:PT1H
X-Robots-Tag:noindex
X-PUBLISHED-TTL:PT1H
BEGIN:VTIMEZONE
TZID:Europe/London
BEGIN:DAYLIGHT
TZOFFSETFROM:+0000
TZOFFSETTO:+0100
TZNAME:BST
DTSTART:20250330T010000
END:DAYLIGHT
BEGIN:STANDARD
TZOFFSETFROM:+0100
TZOFFSETTO:+0000
TZNAME:GMT
DTSTART:20251026T010000
END:STANDARD
BEGIN:DAYLIGHT
TZOFFSETFROM:+0000
TZOFFSETTO:+0100
TZNAME:BST
DTSTART:20260329T010000
END:DAYLIGHT
BEGIN:STANDARD
TZOFFSETFROM:+0100
TZOFFSETTO:+0000
TZNAME:GMT
DTSTART:20261025T010000
END:STANDARD
BEGIN:DAYLIGHT
TZOFFSETFROM:+0000
TZOFFSETTO:+0100
TZNAME:BST
DTSTART:20270328T010000
END:DAYLIGHT
BEGIN:STANDARD
TZOFFSETFROM:+0100
TZOFFSETTO:+0000
TZNAME:GMT
DTSTART:20271031T010000
END:STANDARD
END:VTIMEZONE
BEGIN:VEVENT
DTSTART;TZID=Europe/London:20260423T090000
DTEND;TZID=Europe/London:20260423T120000
DTSTAMP:20260424T024041
CREATED:20260309T113722Z
LAST-MODIFIED:20260317T083139Z
UID:114705-1776934800-1776945600@www.c2sgrowth.com
SUMMARY:Discover the Power of Coaching 1:1 Clinic with Zentano
DESCRIPTION:Tickets\n\n		\n	\n	\n		The numbers below include tickets for this event already in your cart. Clicking "Get Tickets" will allow you to edit any existing attendee information as well as change ticket quantities.	\n\n\n		\n		\n		\n	\n		Tickets are no longer available	\n\n\n		\n	\n	\n\n	\n	\n\n	\n	\n\n\n\n			\n\n	\n\n\n				\n				\n				\n		\n				\n					Event details				\n				\n							\n			\n						\n		\n						\n				\n									Are you curious about how professional coaching could support your personal or business journey? Our Discover the Power of Coaching 1:1 Sessions give you the opportunity to spend an hour with a qualified coach to explore your aspirations\, challenges\, and goals in a safe and supportive environment. These sessions are designed to help you understand whether coaching is the right fit for you and how it could make a difference in your professional or personal development. You’ll walk away with new insights\, clarity\, and practical takeaways that can help you move forward. We’re delighted to partner with two specialist coaching businesses – NPM Associates and Zentano – who will be alternating delivery of these sessions every couple of months. Each session will take place at C2S HQ\, giving you the chance to connect face-to-face with experienced coaches who are passionate about helping people unlock their full potential. Whether you’re looking to overcome challenges\, explore new opportunities\, or gain fresh perspective\, this is your chance to discover what coaching could do for you. 								\n		\n		\n					\n				\n																														\n				\n																														\n					\n				\n				\n				\n		\n				\n					Dave Morris				\n				\n							\n			\n						\n		\n						\n				\n									Dave Morris\, founder of Zentano\, is a highly regarded leadership coach and facilitator known for helping individuals and teams unlock their full potential. With a calm\, insightful approach\, Dave creates space for honest reflection and meaningful conversations\, supporting leaders to build clarity\, confidence and stronger connections within their organisations. He is particularly passionate about developing authentic leadership\, enabling people to lead with purpose\, resilience and impact. Through his work with businesses across the region\, Dave continues to empower leaders to think differently\, act decisively and create lasting positive change 								\n				\n				\n		\n		\n				\n					Venue details				\n				\n							\n			\n						\n		\n						\n				\n									C2S HQ\, Apson House\, 21 Bamfurlong Indutrial Park\, Staverton\, Cheltenham GL51 6SX 								\n				\n							\n			\n		\n						\n				\n		\n		\n		\n				\n							\n							\n											\n													\n										Category:\n									\n						\n						\n				\n				\n					\n		\n		Skills & Training	\n\n				\n				\n				\n				\n				\n		\n				\n					Enquiry\n				\n				\n							\n			\n						\n		\n						\n				\n									If you’d like to enquire about this event\, please get in touch using the form below. 								\n				\n				\n									\n						\n						Please enable JavaScript in your browser to complete this form.Please enable JavaScript in your browser to complete this form.First Name *Last Name *Job Title *Company Name *Company Email *Company Phone *Address Line 1Address Line 2Town/City		\n			Name Title Address\n			\n		\n		CountyPostcodeWebsiteSectorHow can we help you? (Please provide specific details of the event/enquiry as this is a general form) *I am happy for you to contact me for marketing purposes.Submit
URL:https://www.c2sgrowth.com/events/discover-the-power-of-coaching-11-clinic/
CATEGORIES:Skills & Training
ATTACH;FMTTYPE=image/webp:https://www.c2sgrowth.com/wp-content/uploads/2024/08/Zentano-logo-signature-transparent-300x125-2.png
END:VEVENT
END:VCALENDAR